BEGIN:VCALENDAR
VERSION:2.0
METHOD:PUBLISH
BEGIN:VEVENT
DTSTART:20260110T160000Z
DTEND:20260111T210000Z
LOCATION:Chicago, IL 60647
TRANSP: OPAQUE
SEQUENCE:0
UID:
DTSTAMP:20260425T162549Z
SUMMARY:Chicago Artists' BLOW OUT! Hundreds of New Items!
DESCRIPTION:Chicago Artists' BLOW OUT! Hundreds of New Items! Meadow Lane Estate Sales 
UID:1777155949
STREET-ADDRESS:See website
POSTAL-CODE:60647
LOCALITY:Chicago
REGION:ABBREV=IL
COUNTRY:ABBREV=US;ABBREV=USA:United States
URL;TYPE=Event Listing:https://estatesales.org/estate-sales/il/chicago/60647/chicago-artists-blow-out-hundreds-2419610
PRIORITY:1
CLASS:PUBLIC
SEQUENCE:0
STATUS:CONFIRMED
TRANSP:OPAQUE
END:VEVENT
END:VCALENDAR
