BEGIN:VCALENDAR
VERSION:2.0
METHOD:PUBLISH
BEGIN:VEVENT
DTSTART:20260110T163000Z
DTEND:20260110T233000Z
LOCATION:San Diego, CA 92107
TRANSP: OPAQUE
SEQUENCE:0
UID:
DTSTAMP:20260420T182608Z
SUMMARY:Point Loma estate sale
DESCRIPTION:Point Loma estate sale Clark Prestige Estate Sale 
UID:1776731168
STREET-ADDRESS:See website
POSTAL-CODE:92107
LOCALITY:San Diego
REGION:ABBREV=CA
COUNTRY:ABBREV=US;ABBREV=USA:United States
URL;TYPE=Event Listing:https://estatesales.org/estate-sales/ca/san-diego/92107/point-loma-estate-sale-2420285
PRIORITY:1
CLASS:PUBLIC
SEQUENCE:0
STATUS:CONFIRMED
TRANSP:OPAQUE
END:VEVENT
END:VCALENDAR
