BEGIN:VCALENDAR
VERSION:2.0
METHOD:PUBLISH
BEGIN:VEVENT
DTSTART:20130110T180000Z
DTEND:20130112T220000Z
LOCATION:Gainesville, FL 32607
TRANSP: OPAQUE
SEQUENCE:0
UID:
DTSTAMP:20260423T131059Z
SUMMARY:MEGA HUGE ESTATE SALE !!!
DESCRIPTION:MEGA HUGE ESTATE SALE !!! Estate Sales Service Lynn OKeefe Auction Co. & Appraisals PLLC 
UID:1776971459
STREET-ADDRESS:See website
POSTAL-CODE:32607
LOCALITY:Gainesville
REGION:ABBREV=FL
COUNTRY:ABBREV=US;ABBREV=USA:United States
URL;TYPE=Event Listing:https://estatesales.org/estate-sales/fl/gainesville/32607/mega-huge-estate-sale-237831
PRIORITY:1
CLASS:PUBLIC
SEQUENCE:0
STATUS:CONFIRMED
TRANSP:OPAQUE
END:VEVENT
END:VCALENDAR
