BEGIN:VCALENDAR
VERSION:2.0
METHOD:PUBLISH
BEGIN:VEVENT
DTSTART:20260109T150000Z
DTEND:20260110T180000Z
LOCATION:Hatboro, PA 19040
TRANSP: OPAQUE
SEQUENCE:0
UID:
DTSTAMP:20260421T124213Z
SUMMARY:Hydrangeas’ Estate Sales In Hatboro
DESCRIPTION:Hydrangeas’ Estate Sales In Hatboro Hydrangeas’ Estate Sales Management, LLC 
UID:1776796933
STREET-ADDRESS:See website
POSTAL-CODE:19040
LOCALITY:Hatboro
REGION:ABBREV=PA
COUNTRY:ABBREV=US;ABBREV=USA:United States
URL;TYPE=Event Listing:https://estatesales.org/estate-sales/pa/hatboro/19040/hydrangeas-estate-sales-in-hatboro-2419583
PRIORITY:1
CLASS:PUBLIC
SEQUENCE:0
STATUS:CONFIRMED
TRANSP:OPAQUE
END:VEVENT
END:VCALENDAR
