BEGIN:VCALENDAR
VERSION:2.0
METHOD:PUBLISH
BEGIN:VEVENT
DTSTART:20260109T160000Z
DTEND:20260113T190000Z
LOCATION:Cedar City, UT 84720
TRANSP: OPAQUE
SEQUENCE:0
UID:
DTSTAMP:20260423T092905Z
SUMMARY:CEDAR CITY FULL-LIQUIDATION ESTATE SALE!
DESCRIPTION:CEDAR CITY FULL-LIQUIDATION ESTATE SALE! Max Fletcher Estate Sales 
UID:1776958145
STREET-ADDRESS:See website
POSTAL-CODE:84720
LOCALITY:Cedar City
REGION:ABBREV=UT
COUNTRY:ABBREV=US;ABBREV=USA:United States
URL;TYPE=Event Listing:https://estatesales.org/estate-sales/ut/cedar-city/84720/cedar-city-fullliquidation-estate-sale-2419160
PRIORITY:1
CLASS:PUBLIC
SEQUENCE:0
STATUS:CONFIRMED
TRANSP:OPAQUE
END:VEVENT
END:VCALENDAR
