BEGIN:VCALENDAR
VERSION:2.0
METHOD:PUBLISH
BEGIN:VEVENT
DTSTART:20260109T170000Z
DTEND:20260110T220000Z
LOCATION:Fresno, CA 93722
TRANSP: OPAQUE
SEQUENCE:0
UID:
DTSTAMP:20260422T045947Z
SUMMARY:HUGE Estate Sale! Motorcycles, Furn, kitchen, BOOKS & MORE!
DESCRIPTION:HUGE Estate Sale! Motorcycles, Furn, kitchen, BOOKS & MORE! Basements and Beyond 
UID:1776855587
STREET-ADDRESS:See website
POSTAL-CODE:93722
LOCALITY:Fresno
REGION:ABBREV=CA
COUNTRY:ABBREV=US;ABBREV=USA:United States
URL;TYPE=Event Listing:https://estatesales.org/estate-sales/ca/fresno/93722/huge-estate-sale-motorcycles-furn-2419838
PRIORITY:1
CLASS:PUBLIC
SEQUENCE:0
STATUS:CONFIRMED
TRANSP:OPAQUE
END:VEVENT
END:VCALENDAR
