BEGIN:VCALENDAR
VERSION:2.0
METHOD:PUBLISH
BEGIN:VEVENT
DTSTART:20260109T160000Z
DTEND:20260110T210000Z
LOCATION:South Jordan, UT 84009
TRANSP: OPAQUE
SEQUENCE:0
UID:
DTSTAMP:20260424T145948Z
SUMMARY:The Ultimate Treasure Trove: A Premier Downsizing Estate Sale- Everything MUST Go!!
DESCRIPTION:The Ultimate Treasure Trove: A Premier Downsizing Estate Sale- Everything MUST Go!! Caring Transitions of Sandy 
UID:1777064388
STREET-ADDRESS:See website
POSTAL-CODE:84009
LOCALITY:South Jordan
REGION:ABBREV=UT
COUNTRY:ABBREV=US;ABBREV=USA:United States
URL;TYPE=Event Listing:https://estatesales.org/estate-sales/ut/south-jordan/84009/the-ultimate-treasure-trove-a-2419649
PRIORITY:1
CLASS:PUBLIC
SEQUENCE:0
STATUS:CONFIRMED
TRANSP:OPAQUE
END:VEVENT
END:VCALENDAR
