BEGIN:VCALENDAR
VERSION:2.0
METHOD:PUBLISH
BEGIN:VEVENT
DTSTART:20260109T160000Z
DTEND:20260111T230000Z
LOCATION:Riverside, CA 92508
TRANSP: OPAQUE
SEQUENCE:0
UID:
DTSTAMP:20260419T234544Z
SUMMARY:Estate Sales by Dee has a Great Sale in Riverside this Weekend!
DESCRIPTION:Estate Sales by Dee has a Great Sale in Riverside this Weekend! Estate Sales by Dee 
UID:1776663944
STREET-ADDRESS:See website
POSTAL-CODE:92508
LOCALITY:Riverside
REGION:ABBREV=CA
COUNTRY:ABBREV=US;ABBREV=USA:United States
URL;TYPE=Event Listing:https://estatesales.org/estate-sales/ca/riverside/92508/estate-sales-by-dee-has-2419789
PRIORITY:1
CLASS:PUBLIC
SEQUENCE:0
STATUS:CONFIRMED
TRANSP:OPAQUE
END:VEVENT
END:VCALENDAR
