BEGIN:VCALENDAR
VERSION:2.0
METHOD:PUBLISH
BEGIN:VEVENT
DTSTART:20260110T000000Z
DTEND:20260110T040000Z
LOCATION:Portsmouth, VA 23707
TRANSP: OPAQUE
SEQUENCE:0
UID:
DTSTAMP:20260421T032551Z
SUMMARY:AUCTION FRIDAY JANUARY 9TH 2026 – 7 PM at 3614 SCOTT STREET PORTSMOUTH VA 23707
DESCRIPTION:AUCTION FRIDAY JANUARY 9TH 2026 – 7 PM at 3614 SCOTT STREET PORTSMOUTH VA 23707 Randy's Auction Gallery Ltd. 
UID:1776763551
STREET-ADDRESS:See website
POSTAL-CODE:23707
LOCALITY:Portsmouth
REGION:ABBREV=VA
COUNTRY:ABBREV=US;ABBREV=USA:United States
URL;TYPE=Event Listing:https://estatesales.org/estate-sales/va/portsmouth/23707/auction-friday-january-9th-2026-2417423
PRIORITY:1
CLASS:PUBLIC
SEQUENCE:0
STATUS:CONFIRMED
TRANSP:OPAQUE
END:VEVENT
END:VCALENDAR
