BEGIN:VCALENDAR
VERSION:2.0
METHOD:PUBLISH
BEGIN:VEVENT
DTSTART:20200109T140000Z
DTEND:20200111T200000Z
LOCATION:Ocala, FL 34481
TRANSP: OPAQUE
SEQUENCE:0
UID:
DTSTAMP:20260420T060846Z
SUMMARY:Just outside of Dunnellon 
DESCRIPTION:Just outside of Dunnellon  Justice League Estate Sales 
UID:1776686926
STREET-ADDRESS:See website
POSTAL-CODE:34481
LOCALITY:Ocala
REGION:ABBREV=FL
COUNTRY:ABBREV=US;ABBREV=USA:United States
URL;TYPE=Event Listing:https://estatesales.org/estate-sales/fl/ocala/34481/just-outside-of-dunnellon-1748819
PRIORITY:1
CLASS:PUBLIC
SEQUENCE:0
STATUS:CONFIRMED
TRANSP:OPAQUE
END:VEVENT
END:VCALENDAR
