BEGIN:VCALENDAR
VERSION:2.0
METHOD:PUBLISH
BEGIN:VEVENT
DTSTART:20150109T140000Z
DTEND:20150111T180000Z
LOCATION:New Albany, IN 47150
TRANSP: OPAQUE
SEQUENCE:0
UID:
DTSTAMP:20260424T133525Z
SUMMARY:England estate Sale
DESCRIPTION:England estate Sale Caring Transitions 
UID:1777059325
STREET-ADDRESS:See website
POSTAL-CODE:47150
LOCALITY:New Albany
REGION:ABBREV=IN
COUNTRY:ABBREV=US;ABBREV=USA:United States
URL;TYPE=Event Listing:https://estatesales.org/estate-sales/in/new-albany/47150/england-estate-sale-493035
PRIORITY:1
CLASS:PUBLIC
SEQUENCE:0
STATUS:CONFIRMED
TRANSP:OPAQUE
END:VEVENT
END:VCALENDAR
