BEGIN:VCALENDAR
VERSION:2.0
METHOD:PUBLISH
BEGIN:VEVENT
DTSTART:20210108T150000Z
DTEND:20210109T210000Z
LOCATION:Dayton, OH 45419
TRANSP: OPAQUE
SEQUENCE:0
UID:
DTSTAMP:20260419T074333Z
SUMMARY:Estate Sale by Gayle
DESCRIPTION:Estate Sale by Gayle Perkins Interiors & Estate Sales 
UID:1776606213
STREET-ADDRESS:See website
POSTAL-CODE:45419
LOCALITY:Dayton
REGION:ABBREV=OH
COUNTRY:ABBREV=US;ABBREV=USA:United States
URL;TYPE=Event Listing:https://estatesales.org/estate-sales/oh/dayton/45419/estate-sale-by-gayle-1860891
PRIORITY:1
CLASS:PUBLIC
SEQUENCE:0
STATUS:CONFIRMED
TRANSP:OPAQUE
END:VEVENT
END:VCALENDAR
