BEGIN:VCALENDAR
VERSION:2.0
METHOD:PUBLISH
BEGIN:VEVENT
DTSTART:20160108T160000Z
DTEND:20160109T220000Z
LOCATION:East Troy, WI 53120
TRANSP: OPAQUE
SEQUENCE:0
UID:
DTSTAMP:20260420T030216Z
SUMMARY:TONS OF STUFF IN EAST TROY!!!!!
DESCRIPTION:TONS OF STUFF IN EAST TROY!!!!! All in the Family Estate Sales 
UID:1776675736
STREET-ADDRESS:See website
POSTAL-CODE:53120
LOCALITY:East Troy
REGION:ABBREV=WI
COUNTRY:ABBREV=US;ABBREV=USA:United States
URL;TYPE=Event Listing:https://estatesales.org/estate-sales/wi/east-troy/53120/tons-of-stuff-in-east-747203
PRIORITY:1
CLASS:PUBLIC
SEQUENCE:0
STATUS:CONFIRMED
TRANSP:OPAQUE
END:VEVENT
END:VCALENDAR
