BEGIN:VCALENDAR
VERSION:2.0
METHOD:PUBLISH
BEGIN:VEVENT
DTSTART:20260107T170000Z
DTEND:20260107T220000Z
LOCATION:Woodland Hills, CA 91364
TRANSP: OPAQUE
SEQUENCE:0
UID:
DTSTAMP:20260422T095337Z
SUMMARY:Flash sale Woodland hills
DESCRIPTION:Flash sale Woodland hills Indianoaksestatesales 
UID:1776873217
STREET-ADDRESS:See website
POSTAL-CODE:91364
LOCALITY:Woodland Hills
REGION:ABBREV=CA
COUNTRY:ABBREV=US;ABBREV=USA:United States
URL;TYPE=Event Listing:https://estatesales.org/estate-sales/ca/woodland-hills-/91364/flash-sale-woodland-hills-2419844
PRIORITY:1
CLASS:PUBLIC
SEQUENCE:0
STATUS:CONFIRMED
TRANSP:OPAQUE
END:VEVENT
END:VCALENDAR
