BEGIN:VCALENDAR
VERSION:2.0
METHOD:PUBLISH
BEGIN:VEVENT
DTSTART:20230107T140000Z
DTEND:20230107T200000Z
LOCATION:Swansea, MA 02777
TRANSP: OPAQUE
SEQUENCE:0
UID:
DTSTAMP:20260420T012552Z
SUMMARY:Blow Out Sale Swansea
DESCRIPTION:Blow Out Sale Swansea Hidden Treasures Estate Sales & Cleanouts 
UID:1776669952
STREET-ADDRESS:See website
POSTAL-CODE:02777
LOCALITY:Swansea
REGION:ABBREV=MA
COUNTRY:ABBREV=US;ABBREV=USA:United States
URL;TYPE=Event Listing:https://estatesales.org/estate-sales/ma/swansea/02777/blow-out-sale-swansea-2134489
PRIORITY:1
CLASS:PUBLIC
SEQUENCE:0
STATUS:CONFIRMED
TRANSP:OPAQUE
END:VEVENT
END:VCALENDAR
