BEGIN:VCALENDAR
VERSION:2.0
METHOD:PUBLISH
BEGIN:VEVENT
DTSTART:20240106T160000Z
DTEND:20240106T210000Z
LOCATION:West Linn, OR 97068
TRANSP: OPAQUE
SEQUENCE:0
UID:
DTSTAMP:20260419T113745Z
SUMMARY:West Linn Downsizing Sale
DESCRIPTION:West Linn Downsizing Sale Elizabeth Ann's Estate Sales 
UID:1776620265
STREET-ADDRESS:See website
POSTAL-CODE:97068
LOCALITY:West Linn
REGION:ABBREV=OR
COUNTRY:ABBREV=US;ABBREV=USA:United States
URL;TYPE=Event Listing:https://estatesales.org/estate-sales/or/west-linn/97068/west-linn-downsizing-sale-2269209
PRIORITY:1
CLASS:PUBLIC
SEQUENCE:0
STATUS:CONFIRMED
TRANSP:OPAQUE
END:VEVENT
END:VCALENDAR
