BEGIN:VCALENDAR
VERSION:2.0
METHOD:PUBLISH
BEGIN:VEVENT
DTSTART:20230106T150000Z
DTEND:20230106T200000Z
LOCATION:Marion, IA 52302
TRANSP: OPAQUE
SEQUENCE:0
UID:
DTSTAMP:20260425T194458Z
SUMMARY:Caring Transitions New Years Sale
DESCRIPTION:Caring Transitions New Years Sale Caring Transitions of Cedar Rapids & Iowa City 
UID:1777167898
STREET-ADDRESS:See website
POSTAL-CODE:52302
LOCALITY:Marion
REGION:ABBREV=IA
COUNTRY:ABBREV=US;ABBREV=USA:United States
URL;TYPE=Event Listing:https://estatesales.org/estate-sales/ia/marion/52302/caring-transitions-new-years-sale-2133529
PRIORITY:1
CLASS:PUBLIC
SEQUENCE:0
STATUS:CONFIRMED
TRANSP:OPAQUE
END:VEVENT
END:VCALENDAR
