BEGIN:VCALENDAR
VERSION:2.0
METHOD:PUBLISH
BEGIN:VEVENT
DTSTART:20220106T180000Z
DTEND:20220108T230000Z
LOCATION:Los Angeles, CA 90034
TRANSP: OPAQUE
SEQUENCE:0
UID:
DTSTAMP:20260425T212952Z
SUMMARY:Penny's from Heaven Estate Sale in LA
DESCRIPTION:Penny's from Heaven Estate Sale in LA Penny's From Heaven Estate Sales & Liquidations 
UID:1777174192
STREET-ADDRESS:See website
POSTAL-CODE:90034
LOCALITY:Los Angeles
REGION:ABBREV=CA
COUNTRY:ABBREV=US;ABBREV=USA:United States
URL;TYPE=Event Listing:https://estatesales.org/estate-sales/ca/los-angeles/90034/pennys-from-heaven-estate-sale-1996103
PRIORITY:1
CLASS:PUBLIC
SEQUENCE:0
STATUS:CONFIRMED
TRANSP:OPAQUE
END:VEVENT
END:VCALENDAR
