BEGIN:VCALENDAR
VERSION:2.0
METHOD:PUBLISH
BEGIN:VEVENT
DTSTART:20180106T140000Z
DTEND:20180107T210000Z
LOCATION:Lansing, MI 48912
TRANSP: OPAQUE
SEQUENCE:0
UID:
DTSTAMP:20260422T123148Z
SUMMARY:ESTATE SALE  ANTIQUES ~ COLLECTIBLES ~ TOOLS ~ STORAGE SHELVING AND MOREÂ 
DESCRIPTION:ESTATE SALE  ANTIQUES ~ COLLECTIBLES ~ TOOLS ~ STORAGE SHELVING AND MOREÂ  Triola's Estate Sale Service 
UID:1776882708
STREET-ADDRESS:See website
POSTAL-CODE:48912
LOCALITY:Lansing
REGION:ABBREV=MI
COUNTRY:ABBREV=US;ABBREV=USA:United States
URL;TYPE=Event Listing:https://estatesales.org/estate-sales/mi/lansing/48912/estate-sale-antiques-collectibles-tools-1467297
PRIORITY:1
CLASS:PUBLIC
SEQUENCE:0
STATUS:CONFIRMED
TRANSP:OPAQUE
END:VEVENT
END:VCALENDAR
