BEGIN:VCALENDAR
VERSION:2.0
METHOD:PUBLISH
BEGIN:VEVENT
DTSTART:20250104T160000Z
DTEND:20250105T230000Z
LOCATION:Canby, OR 97013
TRANSP: OPAQUE
SEQUENCE:0
UID:
DTSTAMP:20260419T113746Z
SUMMARY:Canby Estate Sale
DESCRIPTION:Canby Estate Sale Elizabeth Ann's Estate Sales 
UID:1776620266
STREET-ADDRESS:See website
POSTAL-CODE:97013
LOCALITY:Canby
REGION:ABBREV=OR
COUNTRY:ABBREV=US;ABBREV=USA:United States
URL;TYPE=Event Listing:https://estatesales.org/estate-sales/or/canby/97013/canby-estate-sale-2355462
PRIORITY:1
CLASS:PUBLIC
SEQUENCE:0
STATUS:CONFIRMED
TRANSP:OPAQUE
END:VEVENT
END:VCALENDAR
