BEGIN:VCALENDAR
VERSION:2.0
METHOD:PUBLISH
BEGIN:VEVENT
DTSTART:20250103T160000Z
DTEND:20250105T210000Z
LOCATION:Hanford, CA 93230
TRANSP: OPAQUE
SEQUENCE:0
UID:
DTSTAMP:20260422T045948Z
SUMMARY:It's A Western Round Up Y'all
DESCRIPTION:It's A Western Round Up Y'all Golden Estate Sales 
UID:1776855588
STREET-ADDRESS:See website
POSTAL-CODE:93230
LOCALITY:Hanford
REGION:ABBREV=CA
COUNTRY:ABBREV=US;ABBREV=USA:United States
URL;TYPE=Event Listing:https://estatesales.org/estate-sales/ca/hanford/93230/its-a-western-round-up-2355335
PRIORITY:1
CLASS:PUBLIC
SEQUENCE:0
STATUS:CONFIRMED
TRANSP:OPAQUE
END:VEVENT
END:VCALENDAR
