BEGIN:VCALENDAR
VERSION:2.0
METHOD:PUBLISH
BEGIN:VEVENT
DTSTART:20190102T130000Z
DTEND:20190103T220000Z
LOCATION:The Villages, FL 32162
TRANSP: OPAQUE
SEQUENCE:0
UID:
DTSTAMP:20260420T050131Z
SUMMARY:2  Day Estate Sale Village of Sabal Chase
DESCRIPTION:2  Day Estate Sale Village of Sabal Chase Blessed & Grateful Inc 
UID:1776682891
STREET-ADDRESS:See website
POSTAL-CODE:32162
LOCALITY:The Villages
REGION:ABBREV=FL
COUNTRY:ABBREV=US;ABBREV=USA:United States
URL;TYPE=Event Listing:https://estatesales.org/estate-sales/fl/the-villages/32162/3-day-estate-sale-village-1607879
PRIORITY:1
CLASS:PUBLIC
SEQUENCE:0
STATUS:CONFIRMED
TRANSP:OPAQUE
END:VEVENT
END:VCALENDAR
