BEGIN:VCALENDAR
VERSION:2.0
METHOD:PUBLISH
BEGIN:VEVENT
DTSTART:20250101T180000Z
DTEND:20250102T000000Z
LOCATION:Menasha, WI 54952
TRANSP: OPAQUE
SEQUENCE:0
UID:
DTSTAMP:20260424T073921Z
SUMMARY:NEW YEARS DAY SUPER-SALE AT THE GEM! 50% OFF SHOP-WIDE
DESCRIPTION:NEW YEARS DAY SUPER-SALE AT THE GEM! 50% OFF SHOP-WIDE Greater Fox Valley Estate Sales / Chip's Treasures LLC 
UID:1777037961
STREET-ADDRESS:See website
POSTAL-CODE:54952
LOCALITY:Menasha
REGION:ABBREV=WI
COUNTRY:ABBREV=US;ABBREV=USA:United States
URL;TYPE=Event Listing:https://estatesales.org/estate-sales/wi/menasha/54952/new-years-day-supersale-at-2355603
PRIORITY:1
CLASS:PUBLIC
SEQUENCE:0
STATUS:CONFIRMED
TRANSP:OPAQUE
END:VEVENT
END:VCALENDAR
